BEGIN:VCALENDAR
VERSION:2.0
PRODID:-//Tukios.com/
BEGIN:VEVENT
UID:439652a8-6a72-4642-b060-d73e24d7b273@www.bonnersferryfuneralhome.com
DTSTAMP:20260421T043426Z
DTSTART:20260725T200000Z
DTEND:20260725T220000Z
SUMMARY:Celebration of Life
DESCRIPTION:
URL:https://www.bonnersferryfuneralhome.com/obituaries/grace-leidt
LOCATION:Senior Hospitality Center 6635 Lincoln Street  Bonners Ferry ID 
	83805
GEO:48.6848526;-116.3210754
END:VEVENT
END:VCALENDAR