BEGIN:VCALENDAR
VERSION:2.0
PRODID:-//Tukios.com/
BEGIN:VEVENT
UID:0de19071-b545-4c39-bec0-e9bbeec00723@www.bonnersferryfuneralhome.com
DTSTAMP:20260421T045207Z
DTSTART:20260502T180000Z
DTEND:20260502T190000Z
SUMMARY:Funeral Service
DESCRIPTION:
URL:https://www.bonnersferryfuneralhome.com/obituaries/debra-willcox
LOCATION:Bonners Ferry Funeral Home 6485 Harrison Street  Bonners Ferry 
	ID 83805
GEO:48.6880237;-116.3150214
END:VEVENT
END:VCALENDAR